BEGIN:VCALENDAR
VERSION:2.0
PRODID:-//Tukios.com/
BEGIN:VEVENT
UID:1f3367ba-3928-46fb-bd63-c59c4b61a576@www.compassionatecremationva.com
DTSTAMP:20260421T174826Z
DTSTART:20260509T180000Z
DTEND:20260509T190000Z
SUMMARY:Celebration of Life
DESCRIPTION:
URL:https://www.compassionatecremationva.com/obituaries/lillian-wawrzyniec
LOCATION:Shenandoah Assembly of God Church 311 Comertown Road  Shenandoah 
	VA 22849
GEO:38.49702;-78.6041553
END:VEVENT
END:VCALENDAR