BEGIN:VCALENDAR
VERSION:2.0
PRODID:-//Tukios.com/
BEGIN:VEVENT
UID:4003125a-48f4-4644-8fe0-29e458cc4eb3@www.compassionatecremationva.com
DTSTAMP:20260422T211416Z
DTSTART:20260509T170000Z
DTEND:20260509T180000Z
SUMMARY:Celebration of Life
DESCRIPTION:
URL:https://www.compassionatecremationva.com/obituaries/james-tingley
LOCATION:The Kingdom Hall of Jehovah's Witness 2216 Central Plains Road  
	Palmyra VA 22963
GEO:37.8184234;-78.2942368
END:VEVENT
END:VCALENDAR